BEGIN:VCALENDAR
VERSION:2.0
PRODID:-//Båsenberga Hotell &amp; Konferens - ECPv6.15.18//NONSGML v1.0//EN
CALSCALE:GREGORIAN
METHOD:PUBLISH
X-WR-CALNAME:Båsenberga Hotell &amp; Konferens
X-ORIGINAL-URL:https://basenberga.se
X-WR-CALDESC:Händelser för Båsenberga Hotell &amp; Konferens
REFRESH-INTERVAL;VALUE=DURATION:PT1H
X-Robots-Tag:noindex
X-PUBLISHED-TTL:PT1H
BEGIN:VTIMEZONE
TZID:Europe/Stockholm
BEGIN:DAYLIGHT
TZOFFSETFROM:+0100
TZOFFSETTO:+0200
TZNAME:CEST
DTSTART:20250330T010000
END:DAYLIGHT
BEGIN:STANDARD
TZOFFSETFROM:+0200
TZOFFSETTO:+0100
TZNAME:CET
DTSTART:20251026T010000
END:STANDARD
BEGIN:DAYLIGHT
TZOFFSETFROM:+0100
TZOFFSETTO:+0200
TZNAME:CEST
DTSTART:20260329T010000
END:DAYLIGHT
BEGIN:STANDARD
TZOFFSETFROM:+0200
TZOFFSETTO:+0100
TZNAME:CET
DTSTART:20261025T010000
END:STANDARD
BEGIN:DAYLIGHT
TZOFFSETFROM:+0100
TZOFFSETTO:+0200
TZNAME:CEST
DTSTART:20270328T010000
END:DAYLIGHT
BEGIN:STANDARD
TZOFFSETFROM:+0200
TZOFFSETTO:+0100
TZNAME:CET
DTSTART:20271031T010000
END:STANDARD
END:VTIMEZONE
BEGIN:VEVENT
DTSTART;TZID=Europe/Stockholm:20260531T113000
DTEND;TZID=Europe/Stockholm:20260531T140000
DTSTAMP:20260419T143436
CREATED:20260401T095610Z
LAST-MODIFIED:20260401T100341Z
UID:10000066-1780227000-1780236000@basenberga.se
SUMMARY:Mors dag-brunch
DESCRIPTION:Fira mors dag med brunch på Båsenberga 💐 \nGör mors dag till något alldeles extra och bjud mamma på en uppskattad brunch hos oss på Båsenberga! \nVår mors dag-brunch har blivit en fin tradition – en stund att samlas\, umgås och njuta av god mat i en varm och rofylld miljö. \nVi serverar en generös brunchbuffé med en blandning av klassiska favoriter och nya smaker\, där vår matfilosofi tar sin självklara plats. Hos oss är maten en hyllning till det sörmländska skafferiet vi bor i – där naturen\, säsongen och råvarorna får stå i centrum. \nGe bort en stund tillsammans – det är den finaste presenten. \nDatum: 31 maj\nTid: 11.30–14.00\nPris: 345 kr per person \n 0151-120 15\n info@basenberga.se \nVarmt välkommen att fira mors dag hos oss på Båsenberga.
URL:https://basenberga.se/event/mors-dag-brunch/
LOCATION:Båsenberga Hotell\, Sverige
CATEGORIES:Mat & dryck
ATTACH;FMTTYPE=image/jpeg:https://basenberga.se/wp-content/uploads/2024/03/Morsdag-pa-basenberga-scaled.jpg
END:VEVENT
END:VCALENDAR